BEGIN:VCALENDAR
VERSION:2.0
PRODID:-//ATADI - ECPv6.11.2.1//NONSGML v1.0//EN
CALSCALE:GREGORIAN
METHOD:PUBLISH
X-WR-CALNAME:ATADI
X-ORIGINAL-URL:https://www.atadi.org
X-WR-CALDESC:Eventos para ATADI
REFRESH-INTERVAL;VALUE=DURATION:PT1H
X-Robots-Tag:noindex
X-PUBLISHED-TTL:PT1H
BEGIN:VTIMEZONE
TZID:Europe/Madrid
BEGIN:DAYLIGHT
TZOFFSETFROM:+0100
TZOFFSETTO:+0200
TZNAME:CEST
DTSTART:20180325T010000
END:DAYLIGHT
BEGIN:STANDARD
TZOFFSETFROM:+0200
TZOFFSETTO:+0100
TZNAME:CET
DTSTART:20181028T010000
END:STANDARD
BEGIN:DAYLIGHT
TZOFFSETFROM:+0100
TZOFFSETTO:+0200
TZNAME:CEST
DTSTART:20190331T010000
END:DAYLIGHT
BEGIN:STANDARD
TZOFFSETFROM:+0200
TZOFFSETTO:+0100
TZNAME:CET
DTSTART:20191027T010000
END:STANDARD
BEGIN:DAYLIGHT
TZOFFSETFROM:+0100
TZOFFSETTO:+0200
TZNAME:CEST
DTSTART:20200329T010000
END:DAYLIGHT
BEGIN:STANDARD
TZOFFSETFROM:+0200
TZOFFSETTO:+0100
TZNAME:CET
DTSTART:20201025T010000
END:STANDARD
END:VTIMEZONE
BEGIN:VEVENT
DTSTART;TZID=Europe/Madrid:20200328T093000
DTEND;TZID=Europe/Madrid:20200328T170000
DTSTAMP:20260419T143737
CREATED:20200310T091727Z
LAST-MODIFIED:20200316T105956Z
UID:221470-1585387800-1585414800@www.atadi.org
SUMMARY:Cancelada: XVII Marcha Senderista ATADI Alcorisa
DESCRIPTION:Este evento ha sido cancelado a causa de la crisis sanitaria provocada por el coronavirus. \nEl importe de las inscripciones ya realizadas se devolverá íntegramente a los afectados. \nSentimos las molestias ocasionadas.
URL:https://www.atadi.org/eventos/xvii-marcha-senderista-atadi-alcorisa/
LOCATION:ATADI Alcorisa\, calle Miguel de Cervantes\, 1\, Alcorisa\, Teruel\, 44550\, España
ATTACH;FMTTYPE=image/jpeg:https://www.atadi.org/wp-content/uploads/canceladacartelMarchaSenderistaATADI2020-scaled.jpg
END:VEVENT
BEGIN:VEVENT
DTSTART;TZID=Europe/Madrid:20200310T100000
DTEND;TZID=Europe/Madrid:20200404T130000
DTSTAMP:20260419T143737
CREATED:20200310T093433Z
LAST-MODIFIED:20200316T110156Z
UID:221476-1583834400-1586005200@www.atadi.org
SUMMARY:Cancelada: Exposición Arte de todos para todos
DESCRIPTION:Este evento ha sido cancelado a causa de la crisis sanitaria provocada por el coronavirus. \nSentimos las molestias ocasionadas. \n\nLa exposición Arte de todos para todos reúne obras artísticas realizadas por personas con discapacidad intelectual o del desarrollo\, que forman parte del alumnado del Colegio Público de Educación Especial Gloria Fuertes de Andorra o son usuarias de ASADICC y ATADI. \nLa exposición puede visitarse del 10 de marzo 4 de abril\, de lunes a viernes en horario de 10.00 a 13.00. De forma paralela a la muestra\, se llevará a cabo un intenso programa de actividades que incluye proyecciones de cine\, conciertos\, teatro\, poesía o charlas. \nPrograma completo de actividades
URL:https://www.atadi.org/eventos/exposicion-arte-de-todos-para-todos-2/
LOCATION:CEA Ítaca José Luis Iranzo\, Avenida Teruel\, 29\, Andorra\, Teruel\, 44500\, España
ATTACH;FMTTYPE=image/png:https://www.atadi.org/wp-content/uploads/cartelreducido.png
END:VEVENT
BEGIN:VEVENT
DTSTART;TZID=Europe/Madrid:20200227T000000
DTEND;TZID=Europe/Madrid:20200330T000000
DTSTAMP:20260419T143737
CREATED:20200310T094816Z
LAST-MODIFIED:20200316T110234Z
UID:221482-1582761600-1585526400@www.atadi.org
SUMMARY:Cancelado: Dister 2020
DESCRIPTION:Este evento ha sido cancelado a causa de la crisis sanitaria provocada por el coronavirus. \nSentimos las molestias ocasionadas. \n\nPrograma de actividades en torno al diseño\, la sostenibilidad y la inclusión. ATADI colabora con DISTER 2020 en varias actividades: un grupo de usuarios trabaja como asistentes de eventos en varios de los actos\, además de actuar en la inauguración o protagonizar su propio desfile. \nVer programa de actividades completo.
URL:https://www.atadi.org/eventos/dister-2020/
ATTACH;FMTTYPE=image/jpeg:https://www.atadi.org/wp-content/uploads/85025864_125964128963309_4432536764938190848_n.jpg
END:VEVENT
BEGIN:VEVENT
DTSTART;TZID=Europe/Madrid:20190829T100000
DTEND;TZID=Europe/Madrid:20190829T130000
DTSTAMP:20260419T143737
CREATED:20190826T124334Z
LAST-MODIFIED:20190826T124334Z
UID:220989-1567072800-1567083600@www.atadi.org
SUMMARY:Bicicleta Solidaria de Caja Rural-Seguros RGA
DESCRIPTION:El próximo jueves 29 de agosto\, entre las 10.00 y las 13.00\, las Bicicletas Solidarias del equipo ciclista Caja Rural-Seguros RGA llegan a Mora de Rubielos con motivo de la realización de la sexta etapa de la Vuelta a España 2019. Seguros RGA y la oficina de Caja Rural de Teruel situada en Mora de Rubielos han elegido a ATADI Mora de Rubielos como beneficiaria de la Bicicleta Solidaria. Todas aquellas personas que deseen colaborar con esta iniciativa pueden acercarse hasta la fan zone de este equipo ciclista y pedalear en sus bicicletas estáticas. Cada kilómetro recorrido en estas bicis se convertirá en un donativo para ATADI\, que se destinará a la finalización del centro de día para personas mayores incluido en el proyecto que la entidad gestiona en Mora de Rubielos.
URL:https://www.atadi.org/eventos/bicicleta-solidaria-de-caja-rural-seguros-rga/
LOCATION:Mora de Rubielos\, C\ Fuente Los Gamellones\, 4\, Mora de Rubielos\, Teruel\, 44400\, Spain
CATEGORIES:Eventos,Otros
ATTACH;FMTTYPE=image/jpeg:https://www.atadi.org/wp-content/uploads/atadimora-0012.jpg
END:VEVENT
BEGIN:VEVENT
DTSTART;TZID=Europe/Madrid:20190523T170000
DTEND;TZID=Europe/Madrid:20190523T190000
DTSTAMP:20260419T143737
CREATED:20190410T115649Z
LAST-MODIFIED:20190410T115649Z
UID:220646-1558630800-1558638000@www.atadi.org
SUMMARY:Asamblea general de ATADI 2019
DESCRIPTION:La junta y los socios de ATADI se reúnen en la asamblea general anual de la asociación\, que agrupa a diez centros de la provincia de Teruel.
URL:https://www.atadi.org/eventos/asamblea-general-atadi-2019/
LOCATION:Utrillas\, Teruel
CATEGORIES:Eventos,Otros
END:VEVENT
BEGIN:VEVENT
DTSTART;VALUE=DATE:20190521
DTEND;VALUE=DATE:20190522
DTSTAMP:20260419T143737
CREATED:20190506T105748Z
LAST-MODIFIED:20190506T105748Z
UID:220709-1558396800-1558483199@www.atadi.org
SUMMARY:V Premios MAZ Empresa Saludable
DESCRIPTION:Ceremonia de entrega de los V Premios MAZ Empresa Saludable en los que ATADI es finalista en la categoría B (mediana empresa).
URL:https://www.atadi.org/eventos/v-premios-maz-empresa-saludable/
LOCATION:Zaragoza
CATEGORIES:Eventos,Otros
END:VEVENT
BEGIN:VEVENT
DTSTART;VALUE=DATE:20190518
DTEND;VALUE=DATE:20190519
DTSTAMP:20260419T143737
CREATED:20190313T164613Z
LAST-MODIFIED:20190506T103410Z
UID:220338-1558137600-1558223999@www.atadi.org
SUMMARY:Marcha senderista de las Estrellas
DESCRIPTION:ATADI Mora de Rubielos organiza la Marcha Senderista de las Estrellas el próximo 18 de mayo\, una actividad deportiva en la que participarán los usuarios de ATADI y sus familias. El objetivo de esta actividad es fomentar la convivencia entre los usuarios de los diferentes centros de ATADI y potenciar la participación de las familias en las actividades de la entidad. \nLa marcha de las estrellas cuenta con dos posibles recorridos. El recorrido largo\, de 10\,6 kilómetros de longitud\, parte del Pabellón Polideportivo y transcurre por los alrededores de Mora de Rubielos\, siendo un trazado de dificultad moderada. El segundo recorrido es urbano\, con 4\,8 kilómetros de longitud\, y recorre la localidad incluyendo acceso al castillo de Mora de Rubielos. \nLa salida de la marcha será a las 17.30 y los participantes contarán con dos avituallamientos elaborados por los usuarios de ATADI Mora de Rubielos. Además\, los participantes que lo deseen compartirán una cena conjunta. \nLa Marcha Senderista de las Estrellas está organizada por ATADI con la colaboración del Ayuntamiento de Mora de Rubielos\, la Comarca de Gúdar-Javalambre\, el Club de Montaña Peñarroya y la Asociación de la Mujer de Mora de Rubielos.
URL:https://www.atadi.org/eventos/marcha-senderista-atadi-mora-de-rubielos/
LOCATION:Mora de Rubielos\, C\ Fuente Los Gamellones\, 4\, Mora de Rubielos\, Teruel\, 44400\, Spain
CATEGORIES:Eventos,Marcha senderista
ATTACH;FMTTYPE=image/jpeg:https://www.atadi.org/wp-content/uploads/cartelmarchaatadi19.jpg
END:VEVENT
BEGIN:VEVENT
DTSTART;VALUE=DATE:20190504
DTEND;VALUE=DATE:20190505
DTSTAMP:20260419T143737
CREATED:20190314T105924Z
LAST-MODIFIED:20190426T091626Z
UID:220351-1556928000-1557014399@www.atadi.org
SUMMARY:XXVI Campeonato Autonómico de Petanca
DESCRIPTION:Deportistas con discapacidad intelectual de todo Aragón compiten en una emocionante jornada inclusiva en Teruel. Durante la mañana del 4 de mayo\, el Parque de los Fueros y el Campo de Fútbol Luis Milla acogerán el XXVI Campeonato Autonómico de Petanca. Los juegos comenzarán a las 10.00 y la entrega de medallas se realizará a partir de las 12.30. Una vez finalizada la competición\, los deportistas comerán juntos y se realizará una ceremonia de clausura en el Palacio de Exposiciones y Congresos de Teruel. \nOrganiza: ATADI\, Special Olympics Aragón y Plena Inclusión Aragón.
URL:https://www.atadi.org/eventos/xxvi-campeonato-autonomico-de-petanca/
LOCATION:Teruel
CATEGORIES:Campeonato,Eventos
ATTACH;FMTTYPE=image/jpeg:https://www.atadi.org/wp-content/uploads/cartel-campeonato-petanca-teruel-1.jpg
END:VEVENT
BEGIN:VEVENT
DTSTART;VALUE=DATE:20190417
DTEND;VALUE=DATE:20190418
DTSTAMP:20260419T143737
CREATED:20190410T114550Z
LAST-MODIFIED:20190410T114550Z
UID:220639-1555459200-1555545599@www.atadi.org
SUMMARY:Entrega de Medalla a los Valores Humanos
DESCRIPTION:El Gobierno de Aragón ha concedido a ATADI la Medalla a los Valores Humanos como parte de los galardones entregados con motivo de la celebración del Día de Aragón. La entrega de la medalla se realizará el 17 de abril en Teruel. ATADI agradece enormemente este reconocimiento.
URL:https://www.atadi.org/eventos/medalla-valores-humanos-gobierno-aragon/
LOCATION:Teruel
CATEGORIES:Eventos,Otros
ATTACH;FMTTYPE=image/jpeg:https://www.atadi.org/wp-content/uploads/D3tGWusXkAAmQEv.jpg
END:VEVENT
BEGIN:VEVENT
DTSTART;VALUE=DATE:20190412
DTEND;VALUE=DATE:20190601
DTSTAMP:20260419T143737
CREATED:20190319T124359Z
LAST-MODIFIED:20190410T114009Z
UID:220410-1555027200-1559347199@www.atadi.org
SUMMARY:Exposición Arte de todos para todos
DESCRIPTION:La exposición Arte de todos para todos recala esta vez en Monreal del Campo con nuevas obras de arte realizadas por personas con discapacidad intelectual. El programa completo de la exposición puede consultarse aquí.
URL:https://www.atadi.org/eventos/inauguracion-exposicion-arte-de-todos-para-todos/
LOCATION:Casa de Cultura Monreal del Campo\, Plaza Mayor\, 10\, Monreal del Campo\, TERUEL\, 44300\, Spain
CATEGORIES:Eventos,Exposiciones
ATTACH;FMTTYPE=image/jpeg:https://www.atadi.org/wp-content/uploads/cartel-expo-ok.jpg
END:VEVENT
BEGIN:VEVENT
DTSTART;VALUE=DATE:20190406
DTEND;VALUE=DATE:20190407
DTSTAMP:20260419T143737
CREATED:20190318T165351Z
LAST-MODIFIED:20190403T112205Z
UID:220385-1554508800-1554595199@www.atadi.org
SUMMARY:La Cosmopueblita
DESCRIPTION:ATADI Jiloca participa en La Cosmopueblita\, evento de la Red SSPA a través de su socio ADRI Jiloca Gallocanta\, dedicado en esta primera edición a la mujer rural y a la percepción de la vida rural con el fin de fortalecer sus aspectos positivos. Ana Lucas\, directora de ATADI Jiloca\, será una de las ponentes de una mesa sobre conciliación laboral y personal.
URL:https://www.atadi.org/eventos/la-cosmopueblita/
LOCATION:Burbáguena
CATEGORIES:Eventos,Otros
ATTACH;FMTTYPE=image/jpeg:https://www.atadi.org/wp-content/uploads/WhatsApp-Image-2019-03-18-at-11.55.03.jpeg
END:VEVENT
BEGIN:VEVENT
DTSTART;TZID=Europe/Madrid:20190329T180000
DTEND;TZID=Europe/Madrid:20190329T200000
DTSTAMP:20260419T143737
CREATED:20190314T104957Z
LAST-MODIFIED:20190409T075710Z
UID:220349-1553882400-1553889600@www.atadi.org
SUMMARY:Desfile Moda Visible de ATADI
DESCRIPTION:ATADI participa en el programa Al hilo de Pertegaz\, ciclo de actividades realizado con motivo del centenario del nacimiento del modisto Manuel Pertegaz. Los usuarios serán modelos por un día presentando la colección Moda Visible ATADI.
URL:https://www.atadi.org/eventos/desfile-moda-visible-de-atadi/
LOCATION:Teruel
CATEGORIES:Eventos,Otros
ATTACH;FMTTYPE=image/jpeg:https://www.atadi.org/wp-content/uploads/Cartel-desfile-moda-visible-atadi-web.jpg
END:VEVENT
BEGIN:VEVENT
DTSTART;TZID=Europe/Madrid:20190328T100000
DTEND;TZID=Europe/Madrid:20190328T130000
DTSTAMP:20260419T143737
CREATED:20190314T110626Z
LAST-MODIFIED:20190314T110626Z
UID:220353-1553767200-1553778000@www.atadi.org
SUMMARY:Formación. Gestión de voluntariado por competencias
DESCRIPTION:La Coordinadora Aragonesa de Voluntariado organiza el taller formativo Gestión de Voluntariado por competencias\, dirigido a las personas responsables del voluntariado en entidades sociales. Es gratuito previa inscripción en www.aragonvoluntario.net o escribiendo a formacion@aragonvoluntario.net. Se realiza en la sede de ATADI Jiloca\, ubicada en Monreal del Campo.
URL:https://www.atadi.org/eventos/formacion-gestion-de-voluntariado-por-competencias/
CATEGORIES:Cursos,Eventos
ATTACH;FMTTYPE=image/jpeg:https://www.atadi.org/wp-content/uploads/20190328.gestion-voluntariado-competencias-jiloca.jpg
END:VEVENT
BEGIN:VEVENT
DTSTART;TZID=Europe/Madrid:20190326T130000
DTEND;TZID=Europe/Madrid:20190326T133000
DTSTAMP:20260419T143737
CREATED:20190314T104436Z
LAST-MODIFIED:20190314T104436Z
UID:220345-1553605200-1553607000@www.atadi.org
SUMMARY:Radio en directo: Autogestores
DESCRIPTION:El grupo de autogestores de ATADI entrevista a Javier Hernández Gracia\, historiador de arte y autor del libro ‘Manuel Pertegaz\, el hombre que rozó la perfección’ en su sección mensual del programa Hoy por Hoy de Cadena Ser Teruel.
URL:https://www.atadi.org/eventos/radio-en-directo-autogestores/
LOCATION:Teruel
CATEGORIES:Eventos,Radio
ATTACH;FMTTYPE=image/jpeg:https://www.atadi.org/wp-content/uploads/WhatsApp-Image-2019-02-27-at-11.42.442.jpeg
END:VEVENT
BEGIN:VEVENT
DTSTART;VALUE=DATE:20190323
DTEND;VALUE=DATE:20190324
DTSTAMP:20260419T143737
CREATED:20190227T143200Z
LAST-MODIFIED:20190313T164145Z
UID:219879-1553299200-1553385599@www.atadi.org
SUMMARY:16ª Marcha Senderista ATADI Alcorisa
DESCRIPTION:Regresa\, un año más\, la Marcha Senderista ATADI Alcorisa\, una actividad deportiva inclusiva apta para todas las personas\, con y sin discapacidad\, que se celebrará el próximo 23 de marzo a las 09.30 con salida en el centro de ATADI Alcorisa. \nDicha marcha forma parte de las actividades deportivas de Special Olympics Aragón y del calendario de Andadas Populares de la Federación Aragonesa de Montaña (FAM). \nInscripciones
URL:https://www.atadi.org/eventos/16a-marcha-senderista-atadi-alcorisa/
LOCATION:Alcorisa\, Teruel
CATEGORIES:Eventos,Marcha senderista
ATTACH;FMTTYPE=image/jpeg:https://www.atadi.org/wp-content/uploads/Marcha_senderista_ATADI_2019.jpg
END:VEVENT
BEGIN:VEVENT
DTSTART;VALUE=DATE:20181202
DTEND;VALUE=DATE:20181203
DTSTAMP:20260419T143737
CREATED:20181127T102443Z
LAST-MODIFIED:20181127T102443Z
UID:214511-1543708800-1543795199@www.atadi.org
SUMMARY:XV Carrera Solidaria por la Discapacidad
DESCRIPTION:
URL:https://www.atadi.org/eventos/xv-carrera-solidaria-por-la-discapacidad/
LOCATION:Teruel
CATEGORIES:Eventos
END:VEVENT
BEGIN:VEVENT
DTSTART;TZID=Europe/Madrid:20181201T180000
DTEND;TZID=Europe/Madrid:20181201T200000
DTSTAMP:20260419T143737
CREATED:20181127T102653Z
LAST-MODIFIED:20181127T102653Z
UID:214513-1543687200-1543694400@www.atadi.org
SUMMARY:Mesa de experiencias sobre deporte y discapacidad
DESCRIPTION:
URL:https://www.atadi.org/eventos/mesa-de-experiencias-sobre-deporte-y-discapacidad/
LOCATION:Claustro del Obispado de Teruel\, Teruel
CATEGORIES:Eventos
END:VEVENT
BEGIN:VEVENT
DTSTART;VALUE=DATE:20180929
DTEND;VALUE=DATE:20180930
DTSTAMP:20260419T143737
CREATED:20180803T122652Z
LAST-MODIFIED:20180803T122652Z
UID:211446-1538179200-1538265599@www.atadi.org
SUMMARY:Campeonato de Aragón de Cross para personas con discapacidad
DESCRIPTION:
URL:https://www.atadi.org/eventos/campeonato-de-aragon-de-cross-para-personas-con-discapacidad/
LOCATION:Andorra\, Teruel
CATEGORIES:Campeonato,Eventos
END:VEVENT
BEGIN:VEVENT
DTSTART;VALUE=DATE:20180926
DTEND;VALUE=DATE:20180927
DTSTAMP:20260419T143737
CREATED:20180720T173229Z
LAST-MODIFIED:20180803T122214Z
UID:210852-1537920000-1538006399@www.atadi.org
SUMMARY:Jornada de convivencia
DESCRIPTION:ATADI Maestrazgo y ATADI Sierra de Albarracín se reúnen para pasar un agradable día de convivencia: irán a la piscina\, verán una exposición y comerán al aire libre.
URL:https://www.atadi.org/eventos/jornada-de-convivencia/
LOCATION:Cantavieja\, Teruel
CATEGORIES:Encuentros,Eventos
END:VEVENT
BEGIN:VEVENT
DTSTART;VALUE=DATE:20180915
DTEND;VALUE=DATE:20180916
DTSTAMP:20260419T143737
CREATED:20180803T122605Z
LAST-MODIFIED:20180803T122605Z
UID:211443-1536969600-1537055999@www.atadi.org
SUMMARY:Campeonato de Fútbol Sala y Petanca para personas con discapacidad intelectual
DESCRIPTION:
URL:https://www.atadi.org/eventos/campeonato-de-futbol-sala-y-petanca-para-personas-con-discapacidad-intelectual/
LOCATION:Utrillas\, Teruel
CATEGORIES:Campeonato,Eventos
END:VEVENT
BEGIN:VEVENT
DTSTART;VALUE=DATE:20180730
DTEND;VALUE=DATE:20180814
DTSTAMP:20260419T143737
CREATED:20180720T173341Z
LAST-MODIFIED:20180803T122456Z
UID:210855-1532908800-1534204799@www.atadi.org
SUMMARY:Inclusion Action 3D+
DESCRIPTION:Campo de voluntariado internacional juvenil organizado por ATADI. Jóvenes de varios países comparten actividades con personas con discapacidad intelectual usuarias de ATADI Alcorisa y ATADI Andorra para fomentar su inclusión.
URL:https://www.atadi.org/eventos/inclusion-action-3d/
LOCATION:Alcorisa\, Teruel
CATEGORIES:Campos de trabajo,Eventos
ATTACH;FMTTYPE=image/png:https://www.atadi.org/wp-content/uploads/atadi1200.png
END:VEVENT
BEGIN:VEVENT
DTSTART;VALUE=DATE:20180729
DTEND;VALUE=DATE:20180831
DTSTAMP:20260419T143737
CREATED:20180803T122943Z
LAST-MODIFIED:20180803T122943Z
UID:211449-1532822400-1535673599@www.atadi.org
SUMMARY:Exposición Arte de todos para todos
DESCRIPTION:Las obras se expondrán en la Iglesia de Santiago el Mayor de Montalbán. Todas las obras expuestas han sido realizadas por personas con discapacidad intelectual que asisten al CPEE Gloria Fuertes de Andorra y centros de ASADICC y ATADI. \nTambién han participado los alumnos del Colegio Público Comarca Cuencas Mineras de Montalbán. Se realizan actividades culturales relacionadas de forma paralela.
URL:https://www.atadi.org/eventos/exposicion-arte-de-todos-para-todos/
LOCATION:Montalbán\, Teruel
CATEGORIES:Eventos,Exposiciones
END:VEVENT
END:VCALENDAR